
BEGIN:VCALENDAR
VERSION:2.0
PRODID:-//John Fontaine Jr. Charity - ECPv6.15.4//NONSGML v1.0//EN
CALSCALE:GREGORIAN
METHOD:PUBLISH
X-WR-CALNAME:John Fontaine Jr. Charity
X-ORIGINAL-URL:https://johnfontainejrcharity.org
X-WR-CALDESC:Events for John Fontaine Jr. Charity
REFRESH-INTERVAL;VALUE=DURATION:PT1H
X-Robots-Tag:noindex
X-PUBLISHED-TTL:PT1H
BEGIN:VTIMEZONE
TZID:UTC
BEGIN:STANDARD
TZOFFSETFROM:+0000
TZOFFSETTO:+0000
TZNAME:UTC
DTSTART:20250101T000000
END:STANDARD
END:VTIMEZONE
BEGIN:VEVENT
DTSTART;TZID=UTC:20251027T100000
DTEND;TZID=UTC:20251027T170000
DTSTAMP:20260423T142356
CREATED:20251223T093344Z
LAST-MODIFIED:20251223T094739Z
UID:13117-1761559200-1761584400@johnfontainejrcharity.org
SUMMARY:Chattanooga Reception
DESCRIPTION:
URL:https://johnfontainejrcharity.org/event/13117/
LOCATION:TX
END:VEVENT
END:VCALENDAR